BEGIN:VCALENDAR
VERSION:2.0
PRODID:Events Booking
BEGIN:VEVENT
UID:69e732bab85cd
SUMMARY:Restaurant après assemblée générale
DESCRIPTION:Le bureau vous propose de se retrouver après l'assemblée gén
 érale au restaurant
 chinois Hugo Wok 114 Rue André Ternynck à Chauny\
 , (a confirmer)
 chacun payant sa part.
 Pour une bonne organisation\, r
 éservation nécessaire jusqu'au 26&nbsp\; septembre en précisant si beso
 in le nombre d'accompagnants.
DTSTART:20251011T190000Z
DTEND:20251011T215500Z
DTSTAMP:20250702T081334Z
ORGANIZER;CN=Club de Plongée de Chauny:MAILTO:robert
END:VEVENT
END:VCALENDAR